BEGIN:VCALENDAR
VERSION:2.0
PRODID:-//.:Cisem:. - ECPv6.7.0//NONSGML v1.0//EN
CALSCALE:GREGORIAN
METHOD:PUBLISH
X-ORIGINAL-URL:https://cisem.uv.es
X-WR-CALDESC:Esdeveniments per .:Cisem:.
REFRESH-INTERVAL;VALUE=DURATION:PT1H
X-Robots-Tag:noindex
X-PUBLISHED-TTL:PT1H
BEGIN:VTIMEZONE
TZID:Europe/Madrid
BEGIN:DAYLIGHT
TZOFFSETFROM:+0100
TZOFFSETTO:+0200
TZNAME:CEST
DTSTART:20240331T010000
END:DAYLIGHT
BEGIN:STANDARD
TZOFFSETFROM:+0200
TZOFFSETTO:+0100
TZNAME:CET
DTSTART:20241027T010000
END:STANDARD
END:VTIMEZONE
BEGIN:VEVENT
DTSTART;TZID=Europe/Madrid:20240527T080000
DTEND;TZID=Europe/Madrid:20240527T170000
DTSTAMP:20260424T212108
CREATED:20240520T060008Z
LAST-MODIFIED:20240701T225758Z
UID:3612-1716796800-1716829200@cisem.uv.es
SUMMARY:Lectura Tesi  Doctoral de Luis Galan
DESCRIPTION:
URL:https://cisem.uv.es/eventos/27-de-maig-lectura-tesi-doctoral-de-luis-galan/
ATTACH;FMTTYPE=image/jpeg:https://cisem.uv.es/wp-content/uploads/2024/05/PHOTO-2024-05-09-10-20-37.jpg
END:VEVENT
END:VCALENDAR