BEGIN:VCALENDAR
VERSION:2.0
PRODID:-//.:Cisem:. - ECPv6.7.0//NONSGML v1.0//EN
CALSCALE:GREGORIAN
METHOD:PUBLISH
X-WR-CALNAME:.:Cisem:.
X-ORIGINAL-URL:https://cisem.uv.es
X-WR-CALDESC:Esdeveniments per .:Cisem:.
REFRESH-INTERVAL;VALUE=DURATION:PT1H
X-Robots-Tag:noindex
X-PUBLISHED-TTL:PT1H
BEGIN:VTIMEZONE
TZID:Europe/Madrid
BEGIN:DAYLIGHT
TZOFFSETFROM:+0100
TZOFFSETTO:+0200
TZNAME:CEST
DTSTART:20250330T010000
END:DAYLIGHT
BEGIN:STANDARD
TZOFFSETFROM:+0200
TZOFFSETTO:+0100
TZNAME:CET
DTSTART:20251026T010000
END:STANDARD
END:VTIMEZONE
BEGIN:VEVENT
DTSTART;TZID=Europe/Madrid:20250211T110000
DTEND;TZID=Europe/Madrid:20250211T130000
DTSTAMP:20260424T111500
CREATED:20250129T141759Z
LAST-MODIFIED:20250129T141838Z
UID:3701-1739271600-1739278800@cisem.uv.es
SUMMARY:II Jornada Ciència i Dones Medievalistes
DESCRIPTION:Jornada Ciència i Dones medievalistes – Frederic Aparisi i Sandra Bernabeu (València\, 11 de febrer)\n\nEn commemoració del Dia Internacional de la Dona i la Xiqueta en la Ciència\, Frederic Aparisi i Sandra Bernabeu\, membres de CiSEM\, junt amb Encarna Montero\, del departament d’Història de l’Art\, han organitzat la II jornada Ciència i Dones Medievalistes\, que enguany comptarà amb dues sessions. La primera tindrà lloc l’11 de febrer en què Maria Isabel del Val\, María Asenjo i Coral Cuadrada compartiran en clau de perspectiva de gènere la seua experiència vital en el món de la investigació i l’acadèmia. Per altra part\, la segona sessió\, en què participaran Francesca Español\, Tina Sabater i Dolores Teijerira\, se celebrarà el 13 de febrer.
URL:https://cisem.uv.es/eventos/ii-jornada-ciencia-i-dones-medievalistes/
END:VEVENT
END:VCALENDAR